BEGIN:VCALENDAR
VERSION:2.0
CREATED:20260422T102210Z
PRODID:-//Clear Secure\, Inc./Equisolve Calendar v1.0//EN
METHOD:PUBLISH
BEGIN:VEVENT
UID:343aff37440c36593bb82ba517a31b37
DTSTAMP:20260422T122721Z
DTSTART:20260506T120000Z
DTEND:20260506T130000Z
SUMMARY:First Quarter 2026 Earnings Call
DESCRIPTION:First Quarter 2026 Earnings Call
Date: May 6\, 2026 8:00 am EDT
Webcast: https://event.choruscall.com/mediaframe/webcast.html?webcastid=T4Fd6odt
END:VEVENT
END:VCALENDAR
